Workbook

Sheet Accueil
B2: Gestion du biogaz
B6: Exemple AAMF
B7: Avertissement AAMF :
B8: Ce document est un exemple fourni par l’AAMF qui doit être adapté par vos soins à la situation de votre unité de méthanisation
B11: ANNEE: | E11: 2022
B13: Nom de l'unité de méthanisation :
C15: Adresse :
B17: Responsables du site : | E17: 1 | H17: 2 | K17: 3
C18: Noms :
C19: Téléphones :
C20: Adresses mail :

Sheet Cogénération
B1: =Accueil!E11 -> 2022 | C1: Suivi du biogaz - Cogénération | F1: =IF(Accueil!E13=0,"Renseigner le nom de l'installation dans l'onglet ""Accueil""",Accueil!$E$13) -> Renseigner le nom de l'installation dans l'onglet "Accueil" | K1: Logo site
B3: Jour de relevés hebdomadaires (production électrique / thermique) :
B5: Date | C5: Jour | D5: Volume de biogaz produit (m3) | E5: Relevés détecteurs (quotidien) | I5: Relevés hebdomadaires compteurs | K5: Temps de fonctionnement moteur (H) | L5: Temps de fonctionnement torchère (H)
E6: CH4 (%) | F6: CO2 (%) | G6: O2 (%) | H6: H2S (ppm) | I6: Production électrique (kWhé) | J6: Production thermique (KWhth)
B7: 44562 | C7: =VLOOKUP(WEEKDAY(B7,2),'Jours semaine'!$A$1:$B$7,2,FALSE) -> Samedi
B8: 44563 | C8: =VLOOKUP(WEEKDAY(B8,2),'Jours semaine'!$A$1:$B$7,2,FALSE) -> Dimanche
B9: 44564 | C9: =VLOOKUP(WEEKDAY(B9,2),'Jours semaine'!$A$1:$B$7,2,FALSE) -> Lundi
B10: 44565 | C10: =VLOOKUP(WEEKDAY(B10,2),'Jours semaine'!$A$1:$B$7,2,FALSE) -> Mardi
B11: 44566 | C11: =VLOOKUP(WEEKDAY(B11,2),'Jours semaine'!$A$1:$B$7,2,FALSE) -> Mercredi
B12: 44567 | C12: =VLOOKUP(WEEKDAY(B12,2),'Jours semaine'!$A$1:$B$7,2,FALSE) -> Jeudi
B13: 44568 | C13: =VLOOKUP(WEEKDAY(B13,2),'Jours semaine'!$A$1:$B$7,2,FALSE) -> Vendredi
B14: 44569 | C14: =VLOOKUP(WEEKDAY(B14,2),'Jours semaine'!$A$1:$B$7,2,FALSE) -> Samedi
B15: 44570 | C15: =VLOOKUP(WEEKDAY(B15,2),'Jours semaine'!$A$1:$B$7,2,FALSE) -> Dimanche
B16: 44571 | C16: =VLOOKUP(WEEKDAY(B16,2),'Jours semaine'!$A$1:$B$7,2,FALSE) -> Lundi
B17: 44572 | C17: =VLOOKUP(WEEKDAY(B17,2),'Jours semaine'!$A$1:$B$7,2,FALSE) -> Mardi
B18: 44573 | C18: =VLOOKUP(WEEKDAY(B18,2),'Jours semaine'!$A$1:$B$7,2,FALSE) -> Mercredi
... B371: 44926 | C371: =VLOOKUP(WEEKDAY(B371,2),'Jours semaine'!$A$1:$B$7,2,FALSE) -> Samedi

Sheet Injection
B1: =Accueil!E11 -> 2022 | C1: Suivi du biogaz - Injection | E1: =IF(Accueil!E13=0,"Renseigner le nom de l'installation dans l'onglet ""Accueil""",Accueil!$E$13) -> Renseigner le nom de l'installation dans l'onglet "Accueil" | J1: Logo site
B3: Jour de relevés hebdomadaires :
B5: Date | C5: Jour | D5: Volume de biogaz produit (m3) | E5: Relevés détecteurs (quotidien) | I5: Volume de biométhane produit (Nm3) | J5: PCS (kWh) | K5: Temps de fonctionnement torchère (H)
E6: CH4 (%) | F6: CO2 (%) | G6: O2 (%) | H6: H2S (ppm)
B7: 44562 | C7: =VLOOKUP(WEEKDAY(B7,2),'Jours semaine'!$A$1:$B$7,2,FALSE) -> Samedi
B8: 44563 | C8: =VLOOKUP(WEEKDAY(B8,2),'Jours semaine'!$A$1:$B$7,2,FALSE) -> Dimanche
B9: 44564 | C9: =VLOOKUP(WEEKDAY(B9,2),'Jours semaine'!$A$1:$B$7,2,FALSE) -> Lundi
B10: 44565 | C10: =VLOOKUP(WEEKDAY(B10,2),'Jours semaine'!$A$1:$B$7,2,FALSE) -> Mardi
B11: 44566 | C11: =VLOOKUP(WEEKDAY(B11,2),'Jours semaine'!$A$1:$B$7,2,FALSE) -> Mercredi
B12: 44567 | C12: =VLOOKUP(WEEKDAY(B12,2),'Jours semaine'!$A$1:$B$7,2,FALSE) -> Jeudi
B13: 44568 | C13: =VLOOKUP(WEEKDAY(B13,2),'Jours semaine'!$A$1:$B$7,2,FALSE) -> Vendredi
B14: 44569 | C14: =VLOOKUP(WEEKDAY(B14,2),'Jours semaine'!$A$1:$B$7,2,FALSE) -> Samedi
B15: 44570 | C15: =VLOOKUP(WEEKDAY(B15,2),'Jours semaine'!$A$1:$B$7,2,FALSE) -> Dimanche
B16: 44571 | C16: =VLOOKUP(WEEKDAY(B16,2),'Jours semaine'!$A$1:$B$7,2,FALSE) -> Lundi
B17: 44572 | C17: =VLOOKUP(WEEKDAY(B17,2),'Jours semaine'!$A$1:$B$7,2,FALSE) -> Mardi
B18: 44573 | C18: =VLOOKUP(WEEKDAY(B18,2),'Jours semaine'!$A$1:$B$7,2,FALSE) -> Mercredi
... B371: 44926 | C371: =VLOOKUP(WEEKDAY(B371,2),'Jours semaine'!$A$1:$B$7,2,FALSE) -> Samedi

Sheet Consommations élec-chaleur
B1: =Accueil!E11 -> 2022 | C1: Consommation d'électricité et de chaleur | E1: =IF(Accueil!E13=0,"Renseigner le nom de l'installation dans l'onglet ""Accueil""",Accueil!$E$13) -> Renseigner le nom de l'installation dans l'onglet "Accueil" | G1: Logo site
D3: Jour de relevés hebdomadaires :
B5: Date | C5: Jour | D5: Relevé compteur électricité (kWh) | E5: Relevé compteur gaz (kWh) | F5: Relevé compteur chaleur (kWh)
B7: 44562 | C7: =VLOOKUP(WEEKDAY(B7,2),'Jours semaine'!$A$1:$B$7,2,FALSE) -> Samedi
B8: 44563 | C8: =VLOOKUP(WEEKDAY(B8,2),'Jours semaine'!$A$1:$B$7,2,FALSE) -> Dimanche
B9: 44564 | C9: =VLOOKUP(WEEKDAY(B9,2),'Jours semaine'!$A$1:$B$7,2,FALSE) -> Lundi
B10: 44565 | C10: =VLOOKUP(WEEKDAY(B10,2),'Jours semaine'!$A$1:$B$7,2,FALSE) -> Mardi
B11: 44566 | C11: =VLOOKUP(WEEKDAY(B11,2),'Jours semaine'!$A$1:$B$7,2,FALSE) -> Mercredi
B12: 44567 | C12: =VLOOKUP(WEEKDAY(B12,2),'Jours semaine'!$A$1:$B$7,2,FALSE) -> Jeudi
B13: 44568 | C13: =VLOOKUP(WEEKDAY(B13,2),'Jours semaine'!$A$1:$B$7,2,FALSE) -> Vendredi
B14: 44569 | C14: =VLOOKUP(WEEKDAY(B14,2),'Jours semaine'!$A$1:$B$7,2,FALSE) -> Samedi
B15: 44570 | C15: =VLOOKUP(WEEKDAY(B15,2),'Jours semaine'!$A$1:$B$7,2,FALSE) -> Dimanche
B16: 44571 | C16: =VLOOKUP(WEEKDAY(B16,2),'Jours semaine'!$A$1:$B$7,2,FALSE) -> Lundi
B17: 44572 | C17: =VLOOKUP(WEEKDAY(B17,2),'Jours semaine'!$A$1:$B$7,2,FALSE) -> Mardi
B18: 44573 | C18: =VLOOKUP(WEEKDAY(B18,2),'Jours semaine'!$A$1:$B$7,2,FALSE) -> Mercredi
... B371: 44926 | C371: =VLOOKUP(WEEKDAY(B371,2),'Jours semaine'!$A$1:$B$7,2,FALSE) -> Samedi

Sheet Jours semaine
A1: 1 | B1: Lundi
A2: 2 | B2: Mardi
A3: 3 | B3: Mercredi
A4: 4 | B4: Jeudi
A5: 5 | B5: Vendredi
A6: 6 | B6: Samedi
A7: 7 | B7: Dimanche
